BEGIN:VCALENDAR
VERSION:2.0
PRODID:-//ChamberMaster//Event Calendar 2.0//EN
METHOD:PUBLISH
X-PUBLISHED-TTL:P3D
REFRESH-INTERVAL:P3D
CALSCALE:GREGORIAN
BEGIN:VEVENT
DTSTART:20191027T123000Z
DTEND:20191027T140000Z
X-MICROSOFT-CDO-ALLDAYEVENT:FALSE
SUMMARY:The Reservoir Run
DESCRIPTION:Join Connecticut criminal defense lawyer Mark Sherman at the 8th annual Reservoir Run\, in an effort to raise money to help serve the needs of children around the world. The race will begin at Weston High School which is located at 115 School Road in Weston\, Connecticut. The race takes place on Sunday\, October 27\, 2019\, with the 5K starting at 8:30 AM and the half marathon starting at 8:40 AM. The run will take you over the rolling hills along the border of the Saugatuck Reservoir and through some of the historic sites\, Weston is known for.
X-ALT-DESC;FMTTYPE=text/html:Join Connecticut criminal defense lawyer Mark Sherman at the 8th annual Reservoir Run\, in an effort to raise money to help serve the needs of children around the world. The race will begin at Weston High School which is located at 115 School Road in Weston\, Connecticut. The race takes place on Sunday\, October 27\, 2019\, with the 5K starting at 8:30 AM and the half marathon starting at 8:40 AM. The run will take you over the rolling hills along the border of the Saugatuck Reservoir and through some of the historic sites\, Weston is known for.
LOCATION:Weston High School 115 School Road\, Weston\, CT 06883
UID:e.1905.5169237
SEQUENCE:3
DTSTAMP:20260426T030530Z
URL:http://greenwichchamber-gzcms.preview.gochambermaster.com/events/details/the-reservoir-run-5169237
END:VEVENT

END:VCALENDAR
