BEGIN:VCALENDAR
VERSION:2.0
PRODID:-//ChamberMaster//Event Calendar 2.0//EN
METHOD:PUBLISH
X-PUBLISHED-TTL:P3D
REFRESH-INTERVAL:P3D
CALSCALE:GREGORIAN
BEGIN:VEVENT
DTSTART:20240405T223000Z
DTEND:20240406T030000Z
X-MICROSOFT-CDO-ALLDAYEVENT:FALSE
SUMMARY:St. Jude Give to Live Gala
DESCRIPTION:Join us for our 4th Annual St. Jude Give to Live Gala in Stamford\, CT benefiting St. Jude Children's Research Hospital.\n\n\n\nWe look forward to seeing you on April 5\, 2024 as we enjoy a memorable cocktail hour\, exquisite dinner\, drinks\, live entertainment\, auctions\, and special St. Jude moments alongside fellow supporters to help further advance the mission of St. Jude: Finding cures. Saving children. \n\n\n\nAll proceeds from this event benefit St. Jude\, where families never receive a bill from St. Jude for treatment\, travel\, housing or food   so they can focus on helping their child live.\n\n.
X-ALT-DESC;FMTTYPE=text/html:<span style="color:#1A1A1A"><span style="font-size:10.0pt">Join us for our 4th Annual&nbsp\;<strong><em>St. Jude</em></strong></span><strong><em>&nbsp\;Give to Live Gala&nbsp\;</em></strong>in Stamford\, CT&nbsp\;benefiting&nbsp\;St. Jude</span>&nbsp\;Children&#39\;s Research Hospital.<br />\n<br />\n<span style="color:#1A1A1A"><span style="font-size:10.0pt">We look forward to seeing you on <strong>April 5\, 2024</strong>&nbsp\;as we enjoy a memorable cocktail hour\, exquisite dinner\, drinks\, live entertainment\, auctions\, and special&nbsp\;St. Jude</span>&nbsp\;moments alongside fellow supporters to help further advance the mission of&nbsp\;<strong>St. Jude</strong></span><strong>: Finding cures. Saving children.&reg\;</strong><br />\n<br />\n<span style="color:#1A1A1A"><span style="font-size:10.0pt">All proceeds from this event benefit&nbsp\;St. Jude\,</span>&nbsp\;where families never receive a bill from&nbsp\;St. Jude</span>&nbsp\;for&nbsp\;treatment\, travel\, housing or food&nbsp\;&mdash\; so they can focus on helping&nbsp\;their child live.<br />\n.
LOCATION:Abigail Kirsch at The Loading Dock 375 Fairfield Avenue Stamford\, CT
UID:e.1905.5174032
SEQUENCE:3
DTSTAMP:20260419T200334Z
URL:http://greenwichchamber-gzcms.preview.gochambermaster.com/events/details/st-jude-give-to-live-gala-04-05-2024-5174032
END:VEVENT

END:VCALENDAR
