BEGIN:VCALENDAR
VERSION:2.0
PRODID:-//ChamberMaster//Event Calendar 2.0//EN
METHOD:PUBLISH
X-PUBLISHED-TTL:P3D
REFRESH-INTERVAL:P3D
CALSCALE:GREGORIAN
BEGIN:VEVENT
DTSTART:20190925T130000Z
DTEND:20190925T170000Z
X-MICROSOFT-CDO-ALLDAYEVENT:FALSE
SUMMARY:Small Business Lending Panel & Networking Session
DESCRIPTION:Are you an existing small business owner or an aspiring entrepreneur in need of financing for your business? Then come meet small business lenders at this free forum hosted by the Pace University Small Business Development Center (SBDC) and the US Small Business Administration (SBA). The session will include a panel featuring small business lenders who will highlight what they look for when evaluating a loan application\, their typical loan terms\, and the documents needed to apply. Before and after the panel\, attendees will have the opportunity to meet one-on-one with lenders to assess the source of capital that is best suited for your business needs. Whether you're looking to expand your current operations or to launch a new venture\, this session will provide practical strategies to finance your small business. Agenda 09:00AM - Registration\, networking\, meet the lenders (1:1 sessions) & light breakfast 10:00AM- 11:30AM   Small Business Lender Panel 11:30AM-1:00PM   Small Business Lender tabling & additional networking
X-ALT-DESC;FMTTYPE=text/html:Are you an existing small business owner or an aspiring entrepreneur in need of financing for your business? Then come meet small business lenders at this free forum hosted by the Pace University Small Business Development Center (SBDC) and the US Small Business Administration (SBA). The session will include a panel featuring small business lenders who will highlight what they look for when evaluating a loan application\, their typical loan terms\, and the documents needed to apply. Before and after the panel\, attendees will have the opportunity to meet one-on-one with lenders to assess the source of capital that is best suited for your business needs. Whether you&rsquo\;re looking to expand your current operations or to launch a new venture\, this session will provide practical strategies to finance your small business. Agenda 09:00AM - Registration\, networking\, meet the lenders (1:1 sessions) &amp\; light breakfast 10:00AM- 11:30AM &ndash\; Small Business Lender Panel 11:30AM-1:00PM &ndash\; Small Business Lender tabling &amp\; additional networking
LOCATION:One Pace Plaza\, enter through 3 Spruce street
UID:e.1905.5169234
SEQUENCE:3
DTSTAMP:20260426T041959Z
URL:http://greenwichchamber-gzcms.preview.gochambermaster.com/events/details/small-business-lending-panel-networking-session-09-25-2019-5169234
END:VEVENT

END:VCALENDAR
