BEGIN:VCALENDAR
VERSION:2.0
PRODID:-//ChamberMaster//Event Calendar 2.0//EN
METHOD:PUBLISH
X-PUBLISHED-TTL:P3D
REFRESH-INTERVAL:P3D
CALSCALE:GREGORIAN
BEGIN:VEVENT
DTSTART:20191026T140000Z
DTEND:20191026T220000Z
X-MICROSOFT-CDO-ALLDAYEVENT:FALSE
SUMMARY:Ribbon Cutting & Grand Opening Funky Monkey Toys
DESCRIPTION:Ribbon Cutting & Grand Opening of Funky Monkey Toys Ribbon Cutting: Peter Tesei\, Jim Himes\, Alex Bergstein\, Livvy Floren\, Peter Carlson. Meet Elsa (Frozen)\, Spiderman and our Funky Monkey. FREE Monkey Pops and Treats all day!
X-ALT-DESC;FMTTYPE=text/html:Ribbon Cutting &amp\; Grand Opening of Funky Monkey Toys Ribbon Cutting: Peter Tesei\, Jim Himes\, Alex Bergstein\, Livvy Floren\, Peter Carlson. Meet Elsa (Frozen)\, Spiderman and our Funky Monkey. FREE Monkey Pops and Treats all day!
LOCATION:86 Greenwich Avenue\, Greenwich\, CT
UID:e.1905.5171264
SEQUENCE:3
DTSTAMP:20260426T030743Z
URL:http://greenwichchamber-gzcms.preview.gochambermaster.com/events/details/ribbon-cutting-grand-opening-funky-monkey-toys-5171264
END:VEVENT

END:VCALENDAR
