BEGIN:VCALENDAR
VERSION:2.0
PRODID:-//ChamberMaster//Event Calendar 2.0//EN
METHOD:PUBLISH
X-PUBLISHED-TTL:P3D
REFRESH-INTERVAL:P3D
CALSCALE:GREGORIAN
BEGIN:VEVENT
DTSTART:20190919T140000Z
DTEND:20190922T210000Z
X-MICROSOFT-CDO-ALLDAYEVENT:FALSE
SUMMARY:Progressive® Insurance Norwalk Boat Show™
DESCRIPTION:The 2019 Progressive  Insurance Norwalk Boat Show  docks at Norwalk Cove Marina September 19-22\, 2019 offering water lovers an all-access pass to discover why life is better with a boat. With 300 boats from luxury yachts and center console sportfishers to affordable family cruisers\, the Show is the best place to shop and compare the best in boating in a beautiful waterfront setting. Bring the kids to play captain and take a free boat ride\, demo the latest paddlesports gear on the water at Try-it-Cove\; hone your skills at our Boat U.S. hands-on boating courses\; and take advantage of incredible savings and giveaways during our "Super Thursday" event. With four days of family and fun and all the newest introductions in boating\, there's no better place to enjoy the last days of summer on Long Island Sound!
X-ALT-DESC;FMTTYPE=text/html:The 2019 Progressive&reg\; Insurance Norwalk Boat Show&trade\; docks at Norwalk Cove Marina September 19-22\, 2019 offering water lovers an all-access pass to discover why life is better with a boat. With 300 boats from luxury yachts and center console sportfishers to affordable family cruisers\, the Show is the best place to shop and compare the best in boating in a beautiful waterfront setting. Bring the kids to play captain and take a free boat ride\, demo the latest paddlesports gear on the water at Try-it-Cove\; hone your skills at our Boat U.S. hands-on boating courses\; and take advantage of incredible savings and giveaways during our &ldquo\;Super Thursday&rdquo\; event. With four days of family and fun and all the newest introductions in boating\, there&rsquo\;s no better place to enjoy the last days of summer on Long Island Sound!
LOCATION:WHERE: Norwalk Cove Marina 48 Calf Pasture Beach Rd\, Norwalk\, CT 06855
UID:e.1905.5169002
SEQUENCE:3
DTSTAMP:20260426T042352Z
URL:http://greenwichchamber-gzcms.preview.gochambermaster.com/events/details/progressive-insurance-norwalk-boat-show-5169002
END:VEVENT

END:VCALENDAR
