BEGIN:VCALENDAR
VERSION:2.0
PRODID:-//ChamberMaster//Event Calendar 2.0//EN
METHOD:PUBLISH
X-PUBLISHED-TTL:P3D
REFRESH-INTERVAL:P3D
CALSCALE:GREGORIAN
BEGIN:VEVENT
DTSTART:20231005T220000Z
DTEND:20231006T003000Z
X-MICROSOFT-CDO-ALLDAYEVENT:FALSE
SUMMARY:New Cooking Class in Greenwich "Cooking with Garlic"
DESCRIPTION:Learn to prepare delicious dishes using Garlic in many ways: raw\, saut ed\, roasted\, and mellow garlic confit. Serving 4 courses\, a surprise hors'd oeuvre & a pairing wine The only Cooking studio in Greenwich: Leicht Cooking Studio. It's an exciting menu\, and I will be visiting The Hudson Valley Garlic Festival just prior to the class. Gift for you: A Head of Garlic for you from the festival MENU & INFO Register: space is limited\; karen@azestforlife.com
X-ALT-DESC;FMTTYPE=text/html:Learn to prepare delicious dishes using Garlic in many ways: raw\, saut&eacute\;ed\, roasted\, and mellow garlic confit. Serving 4 courses\, a surprise hors&rsquo\;d oeuvre &amp\; a pairing wine The only Cooking studio in Greenwich: Leicht Cooking Studio. It&rsquo\;s an exciting menu\, and I will be visiting The Hudson Valley Garlic Festival just prior to the class. Gift for you: A Head of Garlic for you from the festival MENU &amp\; INFO Register: space is limited\; karen@azestforlife.com
LOCATION:LEICHT Kitchens - Greenwich\, 11 E Putnam Ave\, Greenwich\, CT\, 06830
UID:e.1905.5173659
SEQUENCE:3
DTSTAMP:20260420T060609Z
URL:http://greenwichchamber-gzcms.preview.gochambermaster.com/events/details/new-cooking-class-in-greenwich-cooking-with-garlic-5173659
END:VEVENT

END:VCALENDAR
