BEGIN:VCALENDAR
VERSION:2.0
PRODID:-//ChamberMaster//Event Calendar 2.0//EN
METHOD:PUBLISH
X-PUBLISHED-TTL:P3D
REFRESH-INTERVAL:P3D
CALSCALE:GREGORIAN
BEGIN:VEVENT
DTSTART:20230921T143000Z
DTEND:20231104T213000Z
X-MICROSOFT-CDO-ALLDAYEVENT:FALSE
SUMMARY:"Making Their Mark: 7 Women in Abstraction
DESCRIPTION:Heather Gaudio Fine Art is pleased to present Making Their Mark: 7 Women in Abstraction\, the gallery's inaugural exhibition at its new location at 382 Greenwich Ave in Greenwich\, CT. On view will be paintings\, works on paper and sculpture by seven women artists\, all of whom form part of the gallery's roster. The show will run September 21st   November 4th.
X-ALT-DESC;FMTTYPE=text/html:Heather Gaudio Fine Art is pleased to present Making Their Mark: 7 Women in Abstraction\, the gallery&rsquo\;s inaugural exhibition at its new location at 382 Greenwich Ave in Greenwich\, CT. On view will be paintings\, works on paper and sculpture by seven women artists\, all of whom form part of the gallery&rsquo\;s roster. The show will run September 21st &ndash\; November 4th.
LOCATION:382 Greenwich Ave.
UID:e.1905.5173661
SEQUENCE:3
DTSTAMP:20260420T023619Z
URL:http://greenwichchamber-gzcms.preview.gochambermaster.com/events/details/making-their-mark-7-women-in-abstraction-09-21-2023-5173661
END:VEVENT

END:VCALENDAR
