BEGIN:VCALENDAR
VERSION:2.0
PRODID:-//ChamberMaster//Event Calendar 2.0//EN
METHOD:PUBLISH
X-PUBLISHED-TTL:P3D
REFRESH-INTERVAL:P3D
CALSCALE:GREGORIAN
BEGIN:VEVENT
DTSTART:20200311T220000Z
DTEND:20200312T000000Z
X-MICROSOFT-CDO-ALLDAYEVENT:FALSE
SUMMARY:Intellectual Property Rights For Entrepreneurs
DESCRIPTION:Have you developed an innovative product or service\, and find yourself hesitant to share it with prospective investors or partners because you don't want to see your concept stolen or duplicated? The Pace University Small Business Development Center (SBDC) has partnered with the City Bar Justice Center's Neighborhood Entrepreneur Law Project to bring you legal professionals who will help you navigate through the intricacies of intellectual property law to better protect your ideas and business concepts. After the presentation\, there will be time for Q&A to address any follow up questions or concerns you may have. Attendees will also learn about free and low-cost 1:1 legal assistance available through the City Bar Justice Center.
X-ALT-DESC;FMTTYPE=text/html:Have you developed an innovative product or service\, and find yourself hesitant to share it with prospective investors or partners because you don&rsquo\;t want to see your concept stolen or duplicated? The Pace University Small Business Development Center (SBDC) has partnered with the City Bar Justice Center&rsquo\;s Neighborhood Entrepreneur Law Project to bring you legal professionals who will help you navigate through the intricacies of intellectual property law to better protect your ideas and business concepts. After the presentation\, there will be time for Q&amp\;A to address any follow up questions or concerns you may have. Attendees will also learn about free and low-cost 1:1 legal assistance available through the City Bar Justice Center.
LOCATION:Pace University 1 Pace Plaza Student Center West New York\, NY 10038
UID:e.1905.5171550
SEQUENCE:3
DTSTAMP:20260425T034523Z
URL:http://greenwichchamber-gzcms.preview.gochambermaster.com/events/details/intellectual-property-rights-for-entrepreneurs-03-11-2020-5171550
END:VEVENT

END:VCALENDAR
