BEGIN:VCALENDAR
VERSION:2.0
PRODID:-//ChamberMaster//Event Calendar 2.0//EN
METHOD:PUBLISH
X-PUBLISHED-TTL:P3D
REFRESH-INTERVAL:P3D
CALSCALE:GREGORIAN
BEGIN:VEVENT
DTSTART:20240222T230000Z
DTEND:20240223T003000Z
X-MICROSOFT-CDO-ALLDAYEVENT:FALSE
SUMMARY:If a Poem Could Live and Breathe: A Novel of Teddy Roosevelt’s First Love | A Conversation with Mary Calvi and Dana Tyler
DESCRIPTION:Join the Greenwich Historical Society in welcoming author Mary Calvi as she discusses her latest novel\, If a Poem Could Live and Breathe: A Novel of Teddy Roosevelt's First Love. Calvi will be joined in conversation by co-anchor Dana Tyler of CBS New York as she shares more about her research process and the new historical perspectives that emerged as a result.\n\n\n\nStudded with the real love letters between a young Theodore Roosevelt and Boston beauty Alice Lee many of them never-before-published If a Poem Could Live and Breathe makes vivid what many historians believe to be the pivotal years that made the future president into the man of action that defined his political life\, and cemented his legacy.
X-ALT-DESC;FMTTYPE=text/html:<div>\n<div>Join the Greenwich Historical Society in welcoming author Mary Calvi as she discusses her latest novel\,&nbsp\;<em>If a Poem Could Live and Breathe: A Novel of Teddy Roosevelt&rsquo\;s First Love.&nbsp\;</em>Calvi will be joined in conversation by co-anchor Dana Tyler of CBS New York as she shares more about her research process and the new historical perspectives that emerged as a result.</div>\n</div>\n\n<div>\n<p>Studded with the real love letters between a young Theodore Roosevelt and Boston beauty Alice Lee&mdash\;many of them never-before-published&mdash\;<em>If a Poem Could Live and Breathe</em>&nbsp\;makes vivid what many historians believe to be the pivotal years that made the future president into the man of action that defined his political life\, and cemented his legacy.</p>\n</div>\n
LOCATION:Greenwich Historical Society 47 Strickland Road Cos Cob\, CT 06807
UID:e.1905.5173750
SEQUENCE:3
DTSTAMP:20260419T212312Z
URL:http://greenwichchamber-gzcms.preview.gochambermaster.com/events/details/if-a-poem-could-live-and-breathe-a-novel-of-teddy-roosevelt-s-first-love-a-conversation-with-mary-calvi-and-dana-tyler-5173750
END:VEVENT

END:VCALENDAR
