BEGIN:VCALENDAR
VERSION:2.0
PRODID:-//ChamberMaster//Event Calendar 2.0//EN
METHOD:PUBLISH
X-PUBLISHED-TTL:P3D
REFRESH-INTERVAL:P3D
CALSCALE:GREGORIAN
BEGIN:VEVENT
DTSTART:20231117T230000Z
DTEND:20231118T030000Z
X-MICROSOFT-CDO-ALLDAYEVENT:FALSE
SUMMARY:Homes for the Brave 7th Annual Mini-Golf Tournament
DESCRIPTION:Join Homes for the Brave for our 7th Annual Mini-Golf Tournament on Friday\, November 17th starting at 6:00 pm. This fun-filled event will take place at Vazzano's Four Seasons\, 337 Kenyon St.\, Stratford\, CT. You'll enjoy 15 holes of miniature golf along with a cocktail reception\, surf & turf dinner\, and chances to win exciting prizes and auction items. Feel free to skip golf and just join us for dinner! All proceeds from the event will support Homes for the Brave's mission to help homeless Veterans return to meaningful and productive lives. To register please visit homesforthebrave.org/minigolf . Attendees must be 21 or older.
X-ALT-DESC;FMTTYPE=text/html:Join Homes for the Brave for our 7th Annual Mini-Golf Tournament on Friday\, November 17th starting at 6:00 pm. This fun-filled event will take place at Vazzano&rsquo\;s Four Seasons\, 337 Kenyon St.\, Stratford\, CT. You&rsquo\;ll enjoy 15 holes of miniature golf along with a cocktail reception\, surf &amp\; turf dinner\, and chances to win exciting prizes and auction items. Feel free to skip golf and just join us for dinner! All proceeds from the event will support Homes for the Brave&rsquo\;s mission to help homeless Veterans return to meaningful and productive lives. To register please visit homesforthebrave.org/minigolf . Attendees must be 21 or older.
LOCATION:Vazzano's Four Seasons\, 337 Kenyon St.\, Stratford\, CT
UID:e.1905.5173740
SEQUENCE:3
DTSTAMP:20260420T023625Z
URL:http://greenwichchamber-gzcms.preview.gochambermaster.com/events/details/homes-for-the-brave-7th-annual-mini-golf-tournament-5173740
END:VEVENT

END:VCALENDAR
