BEGIN:VCALENDAR
VERSION:2.0
PRODID:-//ChamberMaster//Event Calendar 2.0//EN
METHOD:PUBLISH
X-PUBLISHED-TTL:P3D
REFRESH-INTERVAL:P3D
CALSCALE:GREGORIAN
BEGIN:VEVENT
DTSTART:20240404T220000Z
DTEND:20240405T000000Z
X-MICROSOFT-CDO-ALLDAYEVENT:FALSE
SUMMARY:Hansel Mieth: Vagabond Photographer – Film Screening and Discussion
DESCRIPTION:Join the Greenwich Historical Society and filmmaker Nancy Schiesari for a film screening followed by a moderated question and answer session with Schiesari.\n\n\n\n\n\n\n\nIn Hansel Mieth: Vagabond Photographer (2003\, 60 mins)\, filmmaker Nancy Schiesari presents the compelling tale of a pioneering woman photojournalist who created some of the most indelible images of America mid-20th century. A German immigrant who arrived in this country in the midst of the Great Depression\, she rose to become a celebrated LIFE magazine staff photographer. Armed with convictions\, perseverance\, and talent\, Mieth courageously carved out a career in the male-dominated world of photojournalism at a time when very few women were accepted in the profession.\n\nFilmmaker Nancy Schiesari reveals Mieth's extraordinary life experiences by intercutting taped interviews and voice-over narration with poetic imagery\, both through archival flashback (selected for artistic merit as much as for historical context) and through Mieth's photographs. The result is a richly woven documentary that places Hansel Mieth as a significant contributor to the cultural context of her time.
X-ALT-DESC;FMTTYPE=text/html:<div>\n<div>\n<div>\n<div>\n<div>\n<div>Join the Greenwich Historical Society and filmmaker Nancy Schiesari for a film screening&nbsp\;followed by a moderated question and answer session with Schiesari.</div>\n</div>\n</div>\n</div>\n</div>\n</div>\n\n<div>\n<p>In&nbsp\;<em>Hansel Mieth: Vagabond Photographer</em>&nbsp\;(2003\, 60 mins)\, filmmaker Nancy Schiesari presents&nbsp\;the compelling tale of a pioneering woman photojournalist who created some of the most indelible images of America mid-20th century. A German immigrant who arrived in this country in the midst of the Great Depression\, she rose to become a celebrated LIFE magazine staff photographer. Armed with convictions\, perseverance\, and talent\, Mieth courageously carved out a career in the male-dominated world of photojournalism at a time when very few women were accepted in the profession.</p>\n\n<p>Filmmaker Nancy Schiesari reveals Mieth&rsquo\;s extraordinary life experiences by intercutting taped interviews and voice-over narration with poetic imagery\, both through archival flashback (selected for artistic merit as much as for historical context) and through Mieth&rsquo\;s photographs. The result is a richly woven documentary that places Hansel Mieth as a significant contributor to the cultural context of her time.</p>\n</div>\n
LOCATION:Greenwich Historical Society 47 Strickland Road Cos Cob\, CT 06807
UID:e.1905.5174044
SEQUENCE:3
DTSTAMP:20260419T162043Z
URL:http://greenwichchamber-gzcms.preview.gochambermaster.com/events/details/hansel-mieth-vagabond-photographer-film-screening-and-discussion-5174044
END:VEVENT

END:VCALENDAR
