BEGIN:VCALENDAR
VERSION:2.0
PRODID:-//ChamberMaster//Event Calendar 2.0//EN
METHOD:PUBLISH
X-PUBLISHED-TTL:P3D
REFRESH-INTERVAL:P3D
CALSCALE:GREGORIAN
BEGIN:VEVENT
DTSTART:20191002T220000Z
DTEND:20191003T000000Z
X-MICROSOFT-CDO-ALLDAYEVENT:FALSE
SUMMARY:Greenwich Scouting Town-wide Recruitment Night
DESCRIPTION:Families interested in joining a local Troop or Pack are invited to stop by and meet local leaders to learn more about Greenwich Scouting programs.
X-ALT-DESC;FMTTYPE=text/html:Families interested in joining a local Troop or Pack are invited to stop by and meet local leaders to learn more about Greenwich Scouting programs.
LOCATION:Cos Cob Firehouse 200 E. Putnam Ave. Greenwich\, CT
UID:e.1905.5169239
SEQUENCE:3
DTSTAMP:20260426T030650Z
URL:http://greenwichchamber-gzcms.preview.gochambermaster.com/events/details/greenwich-scouting-town-wide-recruitment-night-5169239
END:VEVENT

END:VCALENDAR
