BEGIN:VCALENDAR
VERSION:2.0
PRODID:-//ChamberMaster//Event Calendar 2.0//EN
METHOD:PUBLISH
X-PUBLISHED-TTL:P3D
REFRESH-INTERVAL:P3D
CALSCALE:GREGORIAN
BEGIN:VEVENT
DTSTART:20230729T113000Z
DTEND:20230729T180000Z
X-MICROSOFT-CDO-ALLDAYEVENT:FALSE
SUMMARY:Greenwich Point One Mile Swim
DESCRIPTION:The 34th Annual Greenwich Point One Mile Swim will be held on Saturday\, July 29th at Tod's Point. The event is sponsored by The Greenwich Swim Committee and the YMCA of Greenwich. All proceeds from the One Mile Swim event will go to the YMCA of Greenwich's Swim School Scholarship Fund\, helping to provide swim school instruction and critical water safety skills to local children. Race start is 7:30 am and check in opens at 6:30 am. Water temperature should be around 72 F. Heats will be by age group with colored caps provided. Wetsuits are allowed but competitors wearing wet suits will be ineligible for awards. There will be light refreshments and commemorative T-shirts for all participants. Please visit The Greenwich Swim Committee website www.gscevents.org for entry form and online registration or contact Jon Harnett at 203-253-2546 for additional information about the event.
X-ALT-DESC;FMTTYPE=text/html:The 34th Annual Greenwich Point One Mile Swim will be held on Saturday\, July 29th at Tod&rsquo\;s Point. The event is sponsored by The Greenwich Swim Committee and the YMCA of Greenwich. All proceeds from the One Mile Swim event will go to the YMCA of Greenwich&rsquo\;s Swim School Scholarship Fund\, helping to provide swim school instruction and critical water safety skills to local children. Race start is 7:30 am and check in opens at 6:30 am. Water temperature should be around 72&deg\;F. Heats will be by age group with colored caps provided. Wetsuits are allowed but competitors wearing wet suits will be ineligible for awards. There will be light refreshments and commemorative T-shirts for all participants. Please visit The Greenwich Swim Committee website www.gscevents.org for entry form and online registration or contact Jon Harnett at 203-253-2546 for additional information about the event.
LOCATION:Tod's Point\, Old Greenwich
UID:e.1905.5173645
SEQUENCE:3
DTSTAMP:20260420T181133Z
URL:http://greenwichchamber-gzcms.preview.gochambermaster.com/events/details/greenwich-point-one-mile-swim-5173645
END:VEVENT

END:VCALENDAR
