BEGIN:VCALENDAR
VERSION:2.0
PRODID:-//ChamberMaster//Event Calendar 2.0//EN
METHOD:PUBLISH
X-PUBLISHED-TTL:P3D
REFRESH-INTERVAL:P3D
CALSCALE:GREGORIAN
BEGIN:VEVENT
DTSTART:20240225T003000Z
DTEND:20240225T090000Z
X-MICROSOFT-CDO-ALLDAYEVENT:FALSE
SUMMARY:63rd Annual Quadrille Ball
DESCRIPTION:The Germanistic Society of America cordially invites you to attend the 63rd Annual Quadrille Ball and will be a special white-tie evening starting with a cocktail reception\, followed by a 3-course dinner\, dancing\, Quadrille Performance\, silent auction and Kuka Club. Since 1961\, this evening has benefitted a Scholarship Fund which has supported over 700 graduate and undergraduate students enrolled at Universities in the U.S. and Germany. Tickets: https://quadrilleball.org/tickets/
X-ALT-DESC;FMTTYPE=text/html:The Germanistic Society of America cordially invites you to attend the 63rd Annual Quadrille Ball and will be a special white-tie evening starting with a cocktail reception\, followed by a 3-course dinner\, dancing\, Quadrille Performance\, silent auction and Kuka Club. Since 1961\, this evening has benefitted a Scholarship Fund which has supported over 700 graduate and undergraduate students enrolled at Universities in the U.S. and Germany. Tickets: https://quadrilleball.org/tickets/
LOCATION:583 Park Avenue\, New York NY 10065
UID:e.1905.5174033
SEQUENCE:3
DTSTAMP:20260419T194908Z
URL:http://greenwichchamber-gzcms.preview.gochambermaster.com/events/details/63rd-annual-quadrille-ball-5174033
END:VEVENT

END:VCALENDAR
