BEGIN:VCALENDAR
VERSION:2.0
PRODID:-//ChamberMaster//Event Calendar 2.0//EN
METHOD:PUBLISH
X-PUBLISHED-TTL:P3D
REFRESH-INTERVAL:P3D
CALSCALE:GREGORIAN
BEGIN:VEVENT
DTSTART:20191102T133000Z
DTEND:20191103T213000Z
X-MICROSOFT-CDO-ALLDAYEVENT:FALSE
SUMMARY:31st Annual Gem\, Mineral\, Jewelry & Fossil Show
DESCRIPTION:Come see 25 retail dealers offering a variety of minerals\, gemstones\, jewelry and fossils. Hourly door prizes\, grand door prizes\, mini mine for kids\, geode cracking! Food truck with family friendly foods! Something for everyone! Sat 9:30 -5 Sun 10 - 4:30 Ample free parking\, near Metro North
X-ALT-DESC;FMTTYPE=text/html:Come see 25 retail dealers offering a variety of minerals\, gemstones\, jewelry and fossils. Hourly door prizes\, grand door prizes\, mini mine for kids\, geode cracking! Food truck with family friendly foods! Something for everyone! Sat 9:30 -5 Sun 10 - 4:30 Ample free parking\, near Metro North
LOCATION:Eastern Greenwich Civic Center 90 Harding Rd Old Greenwich 06870
UID:e.1905.5169236
SEQUENCE:3
DTSTAMP:20260425T230408Z
URL:http://greenwichchamber-gzcms.preview.gochambermaster.com/events/details/31st-annual-gem-mineral-jewelry-fossil-show-5169236
END:VEVENT

END:VCALENDAR
