BEGIN:VCALENDAR
VERSION:2.0
PRODID:-//ChamberMaster//Event Calendar 2.0//EN
METHOD:PUBLISH
X-PUBLISHED-TTL:P3D
REFRESH-INTERVAL:P3D
CALSCALE:GREGORIAN
BEGIN:VEVENT
DTSTART:20231023T213000Z
DTEND:20231023T230000Z
X-MICROSOFT-CDO-ALLDAYEVENT:FALSE
SUMMARY:2023 October After Six Networking at The Cafe at Greenwich Library
DESCRIPTION:Our Chamber\, in collaboration with Abilis\, is thrilled to extend an invitation to you for a special evening of networking\, celebration and awareness.\n\n\n\nOctober is National Disability Employment Awareness Month (NDEAM).  Abilis and Greenwich Library are celebrating their third anniversary of their wonderful partnership--The Cafe at Greenwich Library.  This cafe isn't just about delicious bites\; it's a model for inclusive employment providing meaningful jobs to adults with disabilities.  Come celebrate this partnership and learn how Abilis is transforming inclusive employment in Greenwich and Fairfield County!\n\n\n\nChamber members will receive a discount at The Cafe during the months of October and November. Register now!
X-ALT-DESC;FMTTYPE=text/html:Our Chamber\, in collaboration with Abilis\, is thrilled to extend an invitation to you for a special evening of networking\, celebration and awareness.<br />\n<br />\nOctober is National Disability Employment Awareness Month (NDEAM).&nbsp\; Abilis and Greenwich Library are celebrating their third anniversary of their wonderful partnership--The Cafe at Greenwich Library.&nbsp\; This cafe isn&#39\;t just about delicious bites\; it&#39\;s a model for inclusive employment providing meaningful jobs to adults with disabilities.&nbsp\; Come celebrate this partnership and learn how Abilis is transforming inclusive employment in Greenwich and Fairfield County!<br />\n<br />\nChamber members will receive a discount at The Cafe during the months of October and November. Register now!
LOCATION:The Cafe at Greenwich Library\, lower level 101 West Putnam Avenue
UID:e.1905.5173662
SEQUENCE:3
DTSTAMP:20260420T060429Z
URL:http://greenwichchamber-gzcms.preview.gochambermaster.com/events/details/2023-october-after-six-networking-at-the-cafe-at-greenwich-library-5173662
END:VEVENT

END:VCALENDAR
