BEGIN:VCALENDAR
VERSION:2.0
PRODID:-//ChamberMaster//Event Calendar 2.0//EN
METHOD:PUBLISH
X-PUBLISHED-TTL:P3D
REFRESH-INTERVAL:P3D
CALSCALE:GREGORIAN
BEGIN:VEVENT
DTSTART:20191103T140000Z
DTEND:20191103T170000Z
X-MICROSOFT-CDO-ALLDAYEVENT:FALSE
SUMMARY:2019 Race to Fill the Pantry 5K
DESCRIPTION:The attorneys at Connecticut Trial Firm are sponsoring the 2019 Race to Fill the Pantry. The event\, taking place on November 3rd\, is supporting the Glastonbury Social Services Food Pantry. All proceeds from the race will help provide food and necessary materials to members of the community who are in immediate need of these items.
X-ALT-DESC;FMTTYPE=text/html:The attorneys at Connecticut Trial Firm are sponsoring the 2019 Race to Fill the Pantry. The event\, taking place on November 3rd\, is supporting the Glastonbury Social Services Food Pantry. All proceeds from the race will help provide food and necessary materials to members of the community who are in immediate need of these items.
LOCATION:Riverfront Park\, 300 Welles St\, Glastonbury\, CT 06033
UID:e.1905.5171262
SEQUENCE:3
DTSTAMP:20260425T230313Z
URL:http://greenwichchamber-gzcms.preview.gochambermaster.com/events/details/2019-race-to-fill-the-pantry-5k-5171262
END:VEVENT

END:VCALENDAR
